BEGIN:VCALENDAR
VERSION:2.0
PRODID:-//wp-events-plugin.com//7.2.3.1//EN
TZID:Europe/Paris
X-WR-TIMEZONE:Europe/Paris
BEGIN:VEVENT
UID:120527@l-agenda.ch
DTSTART;TZID=Europe/Paris:20260530T200000
DTEND;TZID=Europe/Paris:20260530T200000
DTSTAMP:20260326T120318Z
URL:https://www.l-agenda.ch/evenements/les-virtuoses-du-piano-next-gen/
SUMMARY:Les Virtuoses du piano - Next-Gen
DESCRIPTION:Avec la nouvelle génération de pianistes: Ryan Zhu\, Abisal G
 ergiev et Dmitrii Kalashnikov. Directrice artistique et pianiste: Mira Yev
 tich
ATTACH;FMTTYPE=image/jpeg:https://www.l-agenda.ch/wp-content/uploads/2026/
 03/Les-Virtuoses-du-piano.jpg
CATEGORIES:Classique,Orchestre | Ensemble | Instrument | Chambre
LOCATION:Centre des Musiques Actuelles - Auditorium Ansermet et Le Chaudron
 \, Passage Marie-Claude Leburgue 2\, Genève\, GE\, 1205\, Genève\, Suiss
 e
GEO:46.19688;6.13654
X-APPLE-STRUCTURED-LOCATION;VALUE=URI;X-ADDRESS=Passage Marie-Claude Leburg
 ue 2\, Genève\, GE\, 1205\, Genève\, Suisse;X-APPLE-RADIUS=100;X-TITLE=C
 entre des Musiques Actuelles - Auditorium Ansermet et Le Chaudron:geo:46.1
 9688,6.13654
END:VEVENT
BEGIN:VTIMEZONE
TZID:Europe/Paris
X-LIC-LOCATION:Europe/Paris
BEGIN:DAYLIGHT
DTSTART:20260329T030000
TZOFFSETFROM:+0100
TZOFFSETTO:+0200
TZNAME:CEST
END:DAYLIGHT
END:VTIMEZONE
END:VCALENDAR