BEGIN:VCALENDAR
VERSION:2.0
PRODID:-//wp-events-plugin.com//7.2.3.1//EN
TZID:Europe/Paris
X-WR-TIMEZONE:Europe/Paris
BEGIN:VEVENT
UID:106891@l-agenda.ch
DTSTART;TZID=Europe/Paris:20241128T193000
DTEND;TZID=Europe/Paris:20241128T193000
DTSTAMP:20241104T105544Z
URL:https://www.l-agenda.ch/evenements/les-quatre-saisons-dantonio-vivaldi
 /
SUMMARY:J.H. Roman: Le père de la musique suédoise
DESCRIPTION:Avec Vincent Bernhardt\, clavecin et Sue-Ying Koang\, violon
ATTACH;FMTTYPE=image/jpeg:https://www.l-agenda.ch/wp-content/uploads/2024/
 04/Alta-Musica-2.jpg
CATEGORIES:Orchestre | Ensemble | Instrument | Chambre,Classique
LOCATION:Temple de Chailly\, Avenue du Temple 2\, Lausanne\, VD\, 1012\, La
 usanne\, Suisse
GEO:46.528527;6.653683
X-APPLE-STRUCTURED-LOCATION;VALUE=URI;X-ADDRESS=Avenue du Temple 2\, Lausan
 ne\, VD\, 1012\, Lausanne\, Suisse;X-APPLE-RADIUS=100;X-TITLE=Temple de Ch
 ailly:geo:46.528527,6.653683
END:VEVENT
BEGIN:VTIMEZONE
TZID:Europe/Paris
X-LIC-LOCATION:Europe/Paris
BEGIN:STANDARD
DTSTART:20241027T020000
TZOFFSETFROM:+0200
TZOFFSETTO:+0100
TZNAME:CET
END:STANDARD
END:VTIMEZONE
END:VCALENDAR