BEGIN:VCALENDAR
VERSION:2.0
PRODID:-//wp-events-plugin.com//7.2.3.1//EN
TZID:Europe/Paris
X-WR-TIMEZONE:Europe/Paris
BEGIN:VEVENT
UID:120571@l-agenda.ch
DTSTART;TZID=Europe/Paris:20260530T190000
DTEND;TZID=Europe/Paris:20260530T190000
DTSTAMP:20260331T164805Z
URL:https://www.l-agenda.ch/evenements/les-miserables-5-2026-05-19-2026-05
 -20-2026-05-21-2026-05-22-2026-05-23-2026-05-24-2026-05-26-2026-05-27-2026
 -05-28-2026-05-29-2026-05-30/
SUMMARY:Les Misérables
DESCRIPTION:Adaptation en 1h15 et avec humour du roman de 1ʼ700 pages de V
 ictor Hugo
ATTACH;FMTTYPE=image/jpeg:https://www.l-agenda.ch/wp-content/uploads/2026/
 03/Les-Miserables.jpg
CATEGORIES:Comédie,Théâtre,Tragédie | Drame
LOCATION:Place St-Maur\, Rue Louis-Auguste Curtat\, Lausanne\, VD\, 1005\, 
 Suisse
GEO:46.522753;6.636602
X-APPLE-STRUCTURED-LOCATION;VALUE=URI;X-ADDRESS=Rue Louis-Auguste Curtat\, 
 Lausanne\, VD\, 1005\, Suisse;X-APPLE-RADIUS=100;X-TITLE=Place St-Maur:geo
 :46.522753,6.636602
END:VEVENT
BEGIN:VTIMEZONE
TZID:Europe/Paris
X-LIC-LOCATION:Europe/Paris
BEGIN:DAYLIGHT
DTSTART:20260329T030000
TZOFFSETFROM:+0100
TZOFFSETTO:+0200
TZNAME:CEST
END:DAYLIGHT
END:VTIMEZONE
END:VCALENDAR