BEGIN:VCALENDAR
VERSION:2.0
PRODID:-//wp-events-plugin.com//7.2.3.1//EN
TZID:Europe/Paris
X-WR-TIMEZONE:Europe/Paris
BEGIN:VEVENT
UID:115938@l-agenda.ch
DTSTART;TZID=Europe/Paris:20251025T193000
DTEND;TZID=Europe/Paris:20251025T193000
DTSTAMP:20250926T133847Z
URL:https://www.l-agenda.ch/evenements/les-inoubliables/
SUMMARY:REPORTÉ en 2026 - Les Inoubliables
DESCRIPTION:Gala-concert de clôture de la première édition du Festival L
 es Inoubliables\n
ATTACH;FMTTYPE=image/jpeg:https://www.l-agenda.ch/wp-content/uploads/2025/
 06/OCG.jpg
CATEGORIES:Classique,Improvisation | Humour | Stand-up,Orchestre |
 Ensemble | Instrument | Chambre
LOCATION:Victoria Hall\, Rue Général-Dufour 14\, Genève\, GE\, 1204\, Ge
 nève\, Suisse
GEO:46.201402;6.141062
X-APPLE-STRUCTURED-LOCATION;VALUE=URI;X-ADDRESS=Rue Général-Dufour 14\, G
 enève\, GE\, 1204\, Genève\, Suisse;X-APPLE-RADIUS=100;X-TITLE=Victoria 
 Hall:geo:46.201402,6.141062
END:VEVENT
BEGIN:VTIMEZONE
TZID:Europe/Paris
X-LIC-LOCATION:Europe/Paris
BEGIN:DAYLIGHT
DTSTART:20250330T030000
TZOFFSETFROM:+0100
TZOFFSETTO:+0200
TZNAME:CEST
END:DAYLIGHT
END:VTIMEZONE
END:VCALENDAR