BEGIN:VCALENDAR
VERSION:2.0
PRODID:-//wp-events-plugin.com//7.2.3.1//EN
TZID:Europe/Paris
X-WR-TIMEZONE:Europe/Paris
BEGIN:VEVENT
UID:117289@l-agenda.ch
DTSTART;TZID=Europe/Paris:20250917T193000
DTEND;TZID=Europe/Paris:20250917T193000
DTSTAMP:20250905T170228Z
URL:https://www.l-agenda.ch/evenements/les-gros-patinent-bien-3-2025-09-17
 /
SUMMARY:Les gros patinent bien
DESCRIPTION:Théâtre humoristique survolté dans une langue inventée\, av
 ec des cartons pour seuls décors
ATTACH;FMTTYPE=image/jpeg:https://www.l-agenda.ch/wp-content/uploads/2022/
 03/Les-gros-patinent-bien.jpg
CATEGORIES:Comédie,Jeune public,Théâtre
LOCATION:Théâtre de Carouge\, Rue Ancienne 37\, Carouge\, GE\, 1227\, Gen
 ève\, Suisse
GEO:46.180366;6.140233
X-APPLE-STRUCTURED-LOCATION;VALUE=URI;X-ADDRESS=Rue Ancienne 37\, Carouge\,
  GE\, 1227\, Genève\, Suisse;X-APPLE-RADIUS=100;X-TITLE=Théâtre de Caro
 uge:geo:46.180366,6.140233
END:VEVENT
BEGIN:VTIMEZONE
TZID:Europe/Paris
X-LIC-LOCATION:Europe/Paris
BEGIN:DAYLIGHT
DTSTART:20250330T030000
TZOFFSETFROM:+0100
TZOFFSETTO:+0200
TZNAME:CEST
END:DAYLIGHT
END:VTIMEZONE
END:VCALENDAR