BEGIN:VCALENDAR
VERSION:2.0
PRODID:-//wp-events-plugin.com//7.2.3.1//EN
TZID:Europe/Paris
X-WR-TIMEZONE:Europe/Paris
BEGIN:VEVENT
UID:119563@l-agenda.ch
DTSTART;TZID=Europe/Paris:20260510T170000
DTEND;TZID=Europe/Paris:20260510T170000
DTSTAMP:20260109T181825Z
URL:https://www.l-agenda.ch/evenements/les-folies-du-grand-palace-3/
SUMMARY:Les Folies du Grand Palace
DESCRIPTION:Création originale qui s'inspire du cabaret français\, humori
 stique\, chanté et dansé
ATTACH;FMTTYPE=image/jpeg:https://www.l-agenda.ch/wp-content/uploads/2026/
 01/Les-Folies-du-Grand-Palace-e1767975449682.jpg
CATEGORIES:Comédie,Comédie musicale | Spectacle musical,Théâtre
LOCATION:Le Bateau-Lune\, Chemin de la Chapelle 10\, Cheseaux\, VD\, 1033\,
  Lausanne\, Suisse
GEO:46.580105;6.60475
X-APPLE-STRUCTURED-LOCATION;VALUE=URI;X-ADDRESS=Chemin de la Chapelle 10\, 
 Cheseaux\, VD\, 1033\, Lausanne\, Suisse;X-APPLE-RADIUS=100;X-TITLE=Le Bat
 eau-Lune:geo:46.580105,6.60475
END:VEVENT
BEGIN:VTIMEZONE
TZID:Europe/Paris
X-LIC-LOCATION:Europe/Paris
BEGIN:DAYLIGHT
DTSTART:20260329T030000
TZOFFSETFROM:+0100
TZOFFSETTO:+0200
TZNAME:CEST
END:DAYLIGHT
END:VTIMEZONE
END:VCALENDAR