BEGIN:VCALENDAR
VERSION:2.0
PRODID:-//wp-events-plugin.com//7.2.3.1//EN
TZID:Europe/Paris
X-WR-TIMEZONE:Europe/Paris
BEGIN:VEVENT
UID:109409@l-agenda.ch
DTSTART;TZID=Europe/Paris:20241102T160000
DTEND;TZID=Europe/Paris:20241102T160000
DTSTAMP:20240916T121754Z
URL:https://www.l-agenda.ch/evenements/les-contes-spontanes-2/
SUMMARY:Les Contes Spontanés
DESCRIPTION:Conte\, théâtre et musique improvisés
CATEGORIES:Théâtre,Festival,Improvisation | Humour | Stand-up,Jeune
 public
LOCATION:Salle des Remparts\, Pl. des Anciens-Fossés\, La Tour-de-Peilz\, 
 VD\, 1814 \, Riviera\, Suisse
GEO:46.453003;6.857783
X-APPLE-STRUCTURED-LOCATION;VALUE=URI;X-ADDRESS=Pl. des Anciens-Fossés\, L
 a Tour-de-Peilz\, VD\, 1814 \, Riviera\, Suisse;X-APPLE-RADIUS=100;X-TITLE
 =Salle des Remparts:geo:46.453003,6.857783
END:VEVENT
BEGIN:VTIMEZONE
TZID:Europe/Paris
X-LIC-LOCATION:Europe/Paris
BEGIN:STANDARD
DTSTART:20241027T020000
TZOFFSETFROM:+0200
TZOFFSETTO:+0100
TZNAME:CET
END:STANDARD
END:VTIMEZONE
END:VCALENDAR