BEGIN:VCALENDAR
VERSION:2.0
PRODID:-//wp-events-plugin.com//7.2.3.1//EN
TZID:Europe/Paris
X-WR-TIMEZONE:Europe/Paris
BEGIN:VEVENT
UID:103720@l-agenda.ch
DTSTART;TZID=Europe/Paris:20240329T200000
DTEND;TZID=Europe/Paris:20240329T200000
DTSTAMP:20240110T163104Z
URL:https://www.l-agenda.ch/evenements/les-contes-du-passage/
SUMMARY:Les contes du passage
DESCRIPTION:Contes et violoncelle
ATTACH;FMTTYPE=image/jpeg:https://www.l-agenda.ch/wp-content/uploads/2024/
 01/ccbf6049-3f1a-4ead-949f-632e2e15fa37.jpg
CATEGORIES:Littérature | Conte | Lecture,Théâtre
LOCATION:Crêt Bérard\, Chemin de la Chapelle 19a\, Puidoux\, VD\, 1070\, 
 Lavaux-Oron\, Suisse
GEO:46.497954;6.782711
X-APPLE-STRUCTURED-LOCATION;VALUE=URI;X-ADDRESS=Chemin de la Chapelle 19a\,
  Puidoux\, VD\, 1070\, Lavaux-Oron\, Suisse;X-APPLE-RADIUS=100;X-TITLE=Cr
 êt Bérard:geo:46.497954,6.782711
END:VEVENT
BEGIN:VTIMEZONE
TZID:Europe/Paris
X-LIC-LOCATION:Europe/Paris
BEGIN:STANDARD
DTSTART:20231029T020000
TZOFFSETFROM:+0200
TZOFFSETTO:+0100
TZNAME:CET
END:STANDARD
END:VTIMEZONE
END:VCALENDAR