BEGIN:VCALENDAR
VERSION:2.0
PRODID:-//wp-events-plugin.com//7.2.3.1//EN
TZID:Europe/Paris
X-WR-TIMEZONE:Europe/Paris
BEGIN:VEVENT
UID:108915@l-agenda.ch
DTSTART;TZID=Europe/Paris;VALUE=DATE:20240912
DTEND;TZID=Europe/Paris;VALUE=DATE:20240923
DTSTAMP:20240828T132119Z
URL:https://www.l-agenda.ch/evenements/les-avions-en-pierre/
SUMMARY:Les avions en pierre
DESCRIPTION:Steve Antonietti\, sculptures aéronautiques en pierrehttps://w
 ww.meinier.ch/sport-culture-loisirs/galerie-dexposition/programme-expos-fu
 tures
ATTACH;FMTTYPE=image/jpeg:https://www.l-agenda.ch/wp-content/uploads/2024/
 08/Les-avions-en-pierre.jpg
CATEGORIES:Exposition temporaire
LOCATION:Le Coin du Centre - Galerie Meinier\, Route de Gy 41 \, Meinier\, 
 GE\, 1252\, Genève\, Suisse
GEO:46.246759;6.234358
X-APPLE-STRUCTURED-LOCATION;VALUE=URI;X-ADDRESS=Route de Gy 41 \, Meinier\,
  GE\, 1252\, Genève\, Suisse;X-APPLE-RADIUS=100;X-TITLE=Le Coin du Centre
  - Galerie Meinier:geo:46.246759,6.234358
END:VEVENT
BEGIN:VTIMEZONE
TZID:Europe/Paris
X-LIC-LOCATION:Europe/Paris
BEGIN:DAYLIGHT
DTSTART:20240331T030000
TZOFFSETFROM:+0100
TZOFFSETTO:+0200
TZNAME:CEST
END:DAYLIGHT
END:VTIMEZONE
END:VCALENDAR