BEGIN:VCALENDAR
VERSION:2.0
PRODID:-//wp-events-plugin.com//7.2.3.1//EN
TZID:Europe/Paris
X-WR-TIMEZONE:Europe/Paris
BEGIN:VEVENT
UID:104952@l-agenda.ch
DTSTART;TZID=Europe/Paris:20250712T060000
DTEND;TZID=Europe/Paris:20250712T060000
DTSTAMP:20250623T125930Z
URL:https://www.l-agenda.ch/evenements/lea-gasser/
SUMMARY:Lea Gasser\, accordéon
DESCRIPTION:Concert solo néoclassique et jazz
ATTACH;FMTTYPE=image/jpeg:https://www.l-agenda.ch/wp-content/uploads/2024/
 01/Lea-Gasser.jpg
CATEGORIES:Jazz | Swing | Blues,Musique actuelle
LOCATION:La Jetée de la Compagnie et le Minimum\, Quai du Vent-Blanc \, La
 usanne\, VD\, 1007\, Lausanne\, Suisse
GEO:46.508824;6.616533
X-APPLE-STRUCTURED-LOCATION;VALUE=URI;X-ADDRESS=Quai du Vent-Blanc \, Lausa
 nne\, VD\, 1007\, Lausanne\, Suisse;X-APPLE-RADIUS=100;X-TITLE=La Jetée d
 e la Compagnie et le Minimum:geo:46.508824,6.616533
END:VEVENT
BEGIN:VTIMEZONE
TZID:Europe/Paris
X-LIC-LOCATION:Europe/Paris
BEGIN:DAYLIGHT
DTSTART:20250330T030000
TZOFFSETFROM:+0100
TZOFFSETTO:+0200
TZNAME:CEST
END:DAYLIGHT
END:VTIMEZONE
END:VCALENDAR