BEGIN:VCALENDAR
VERSION:2.0
PRODID:-//wp-events-plugin.com//7.2.3.1//EN
TZID:Europe/Paris
X-WR-TIMEZONE:Europe/Paris
BEGIN:VEVENT
UID:119312@l-agenda.ch
DTSTART;TZID=Europe/Paris:20251203T200000
DTEND;TZID=Europe/Paris:20251205T200000
DTSTAMP:20251204T132954Z
URL:https://www.l-agenda.ch/evenements/le-vieil-incendie/
SUMMARY:Le vieil incendie
DESCRIPTION:Deux soeurs qui ne se sont pas vues depuis quinze ans se retrou
 vent pour vider la maison de leur père décédé
ATTACH;FMTTYPE=image/jpeg:https://www.l-agenda.ch/wp-content/uploads/2025/
 12/Le-vieil-incendie.jpg
CATEGORIES:Théâtre
LOCATION:Casino-Théâtre\, Rue de Carouge 42\, Genève \, GE\, 1205\, Gen
 ève\, Suisse
GEO:46.194612;6.143303
X-APPLE-STRUCTURED-LOCATION;VALUE=URI;X-ADDRESS=Rue de Carouge 42\, Genève
  \, GE\, 1205\, Genève\, Suisse;X-APPLE-RADIUS=100;X-TITLE=Casino-Théât
 re:geo:46.194612,6.143303
END:VEVENT
BEGIN:VTIMEZONE
TZID:Europe/Paris
X-LIC-LOCATION:Europe/Paris
BEGIN:STANDARD
DTSTART:20251026T020000
TZOFFSETFROM:+0200
TZOFFSETTO:+0100
TZNAME:CET
END:STANDARD
END:VTIMEZONE
END:VCALENDAR