BEGIN:VCALENDAR
VERSION:2.0
PRODID:-//wp-events-plugin.com//7.2.3.1//EN
TZID:Europe/Paris
X-WR-TIMEZONE:Europe/Paris
BEGIN:VEVENT
UID:103802@l-agenda.ch
DTSTART;TZID=Europe/Paris:20240305T183000
DTEND;TZID=Europe/Paris:20240305T183000
DTSTAMP:20240114T155205Z
URL:https://www.l-agenda.ch/evenements/le-soldat-et-la-ballerine-2/
SUMMARY:Le soldat et la ballerine
DESCRIPTION:Théâtre\, dès 7 ans
ATTACH;FMTTYPE=image/jpeg:https://www.l-agenda.ch/wp-content/uploads/2023/
 07/Soldat-et-ballerine.jpg
CATEGORIES:Jeune public
LOCATION:Théâtre Benno Besson\, Rue du Casino 9  \, Yverdon-les-Bains\, V
 D\, 1401 \, Jura-Nord Vaudois\, Suisse
GEO:46.779825;6.642233
X-APPLE-STRUCTURED-LOCATION;VALUE=URI;X-ADDRESS=Rue du Casino 9  \, Yverdon
 -les-Bains\, VD\, 1401 \, Jura-Nord Vaudois\, Suisse;X-APPLE-RADIUS=100;X-
 TITLE=Théâtre Benno Besson:geo:46.779825,6.642233
END:VEVENT
BEGIN:VTIMEZONE
TZID:Europe/Paris
X-LIC-LOCATION:Europe/Paris
BEGIN:STANDARD
DTSTART:20231029T020000
TZOFFSETFROM:+0200
TZOFFSETTO:+0100
TZNAME:CET
END:STANDARD
END:VTIMEZONE
END:VCALENDAR