BEGIN:VCALENDAR
VERSION:2.0
PRODID:-//wp-events-plugin.com//7.2.3.1//EN
TZID:Europe/Paris
X-WR-TIMEZONE:Europe/Paris
BEGIN:VEVENT
UID:119992@l-agenda.ch
DTSTART;TZID=Europe/Paris:20260306T194500
DTEND;TZID=Europe/Paris:20260306T194500
DTSTAMP:20260127T150520Z
URL:https://www.l-agenda.ch/evenements/le-quai-des-possibles/
SUMMARY:Le Quai des Possibles
DESCRIPTION:Des textes de slam infusent dans la musique jazz et pop
ATTACH;FMTTYPE=image/jpeg:https://www.l-agenda.ch/wp-content/uploads/2026/
 01/Slam-Franck.jpeg
CATEGORIES:Pop | Folk | Chanson,Jazz | Swing | Blues,Littérature | Conte
 | Lecture
LOCATION:Le Lapin Vert\, Ruelle du Lapin-Vert 2\, Lausanne\, VD\, 1005\, La
 usanne\, Suisse
GEO:46.523532;6.63577
X-APPLE-STRUCTURED-LOCATION;VALUE=URI;X-ADDRESS=Ruelle du Lapin-Vert 2\, La
 usanne\, VD\, 1005\, Lausanne\, Suisse;X-APPLE-RADIUS=100;X-TITLE=Le Lapin
  Vert:geo:46.523532,6.63577
END:VEVENT
BEGIN:VTIMEZONE
TZID:Europe/Paris
X-LIC-LOCATION:Europe/Paris
BEGIN:STANDARD
DTSTART:20251026T020000
TZOFFSETFROM:+0200
TZOFFSETTO:+0100
TZNAME:CET
END:STANDARD
END:VTIMEZONE
END:VCALENDAR