BEGIN:VCALENDAR
VERSION:2.0
PRODID:-//wp-events-plugin.com//7.2.3.1//EN
TZID:Europe/Paris
X-WR-TIMEZONE:Europe/Paris
BEGIN:VEVENT
UID:73459@l-agenda.ch
DTSTART;TZID=Europe/Paris:20220403T160000
DTEND;TZID=Europe/Paris:20220404T160000
DTSTAMP:20220116T204102Z
URL:https://www.l-agenda.ch/event-recurring/le-petit-prince/
SUMMARY:Le Petit Prince
DESCRIPTION:Théâtre musical\, dès 6 ans
ATTACH;FMTTYPE=image/jpeg:https://www.l-agenda.ch/wp-content/uploads/2022/
 01/Le-Petit-Prince.jpg
CATEGORIES:Jeune public
LOCATION:Spectacles Onésiens\, Route de Chancy 131\, Onex\, GE\, 1213\, Ge
 nève\, Suisse
GEO:46.183102;6.100545
X-APPLE-STRUCTURED-LOCATION;VALUE=URI;X-ADDRESS=Route de Chancy 131\, Onex\
 , GE\, 1213\, Genève\, Suisse;X-APPLE-RADIUS=100;X-TITLE=Spectacles Onés
 iens:geo:46.183102,6.100545
END:VEVENT
BEGIN:VTIMEZONE
TZID:Europe/Paris
X-LIC-LOCATION:Europe/Paris
BEGIN:DAYLIGHT
DTSTART:20220327T030000
TZOFFSETFROM:+0100
TZOFFSETTO:+0200
TZNAME:CEST
END:DAYLIGHT
END:VTIMEZONE
END:VCALENDAR