BEGIN:VCALENDAR
VERSION:2.0
PRODID:-//wp-events-plugin.com//7.2.3.1//EN
TZID:Europe/Paris
X-WR-TIMEZONE:Europe/Paris
BEGIN:VEVENT
UID:78348@l-agenda.ch
DTSTART;TZID=Europe/Paris:20220612T200000
DTEND;TZID=Europe/Paris:20220613T200000
DTSTAMP:20220402T084750Z
URL:https://www.l-agenda.ch/event-recurring/le-lac-des-cygnes-3/
SUMMARY:Le Lac des Cygnes
DESCRIPTION:Ballet classique
ATTACH;FMTTYPE=image/jpeg:https://www.l-agenda.ch/wp-content/uploads/2020/
 10/Lac-des-Cygnes.jpg
CATEGORIES:Danse,Danse classique
LOCATION:Bâtiment des Forces Motrices\, Place des Volontaires 2\, Genève\
 , GE\, 1204\, Genève\, Suisse
GEO:46.204654;6.137087
X-APPLE-STRUCTURED-LOCATION;VALUE=URI;X-ADDRESS=Place des Volontaires 2\, G
 enève\, GE\, 1204\, Genève\, Suisse;X-APPLE-RADIUS=100;X-TITLE=Bâtiment
  des Forces Motrices:geo:46.204654,6.137087
END:VEVENT
BEGIN:VTIMEZONE
TZID:Europe/Paris
X-LIC-LOCATION:Europe/Paris
BEGIN:DAYLIGHT
DTSTART:20220327T030000
TZOFFSETFROM:+0100
TZOFFSETTO:+0200
TZNAME:CEST
END:DAYLIGHT
END:VTIMEZONE
END:VCALENDAR