BEGIN:VCALENDAR
VERSION:2.0
PRODID:-//wp-events-plugin.com//7.2.3.1//EN
TZID:Europe/Paris
X-WR-TIMEZONE:Europe/Paris
BEGIN:VEVENT
UID:108631@l-agenda.ch
DTSTART;TZID=Europe/Paris:20260503T143000
DTEND;TZID=Europe/Paris:20260503T143000
DTSTAMP:20260115T144732Z
URL:https://www.l-agenda.ch/evenements/le-grand-concert-de-broadway-6/
SUMMARY:Le grand concert de Broadway
DESCRIPTION:Reprise du concert comédie musicale rock-symphonique
ATTACH;FMTTYPE=image/jpeg:https://www.l-agenda.ch/wp-content/uploads/2024/
 08/La-grand-concert-de-Broadway.webp
CATEGORIES:Musique actuelle,Comédie musicale | Spectacle musical,Pop |
 Folk | Chanson,Rock | Metal | Punk
LOCATION:Théâtre Barnabé\, Rue du Théâtre 2\, Servion\, VD\, 1077 \, L
 avaux-Oron\, Suisse
GEO:46.596207;6.770662
X-APPLE-STRUCTURED-LOCATION;VALUE=URI;X-ADDRESS=Rue du Théâtre 2\, Servio
 n\, VD\, 1077 \, Lavaux-Oron\, Suisse;X-APPLE-RADIUS=100;X-TITLE=Théâtre
  Barnabé:geo:46.596207,6.770662
END:VEVENT
BEGIN:VTIMEZONE
TZID:Europe/Paris
X-LIC-LOCATION:Europe/Paris
BEGIN:DAYLIGHT
DTSTART:20260329T030000
TZOFFSETFROM:+0100
TZOFFSETTO:+0200
TZNAME:CEST
END:DAYLIGHT
END:VTIMEZONE
END:VCALENDAR