BEGIN:VCALENDAR
VERSION:2.0
PRODID:-//wp-events-plugin.com//7.2.3.1//EN
TZID:Europe/Paris
X-WR-TIMEZONE:Europe/Paris
BEGIN:VEVENT
UID:109883@l-agenda.ch
DTSTART;TZID=Europe/Paris:20241208T110000
DTEND;TZID=Europe/Paris:20241208T110000
DTSTAMP:20240924T150919Z
URL:https://www.l-agenda.ch/evenements/le-grand-brunch-2/
SUMMARY:Le Grand Brunch
DESCRIPTION:Brunch et intermèdes musicaux
ATTACH;FMTTYPE=image/jpeg:https://www.l-agenda.ch/wp-content/uploads/2023/
 09/Le-Grand-Brunch.jpg
CATEGORIES:Classique,Orchestre | Ensemble | Instrument | Chambre
LOCATION:Grand Théâtre de Genève\, Boulevard du Théâtre 11\, Genève\,
  GE\, 1211\, Genève\, Suisse
GEO:46.201801;6.142647
X-APPLE-STRUCTURED-LOCATION;VALUE=URI;X-ADDRESS=Boulevard du Théâtre 11\,
  Genève\, GE\, 1211\, Genève\, Suisse;X-APPLE-RADIUS=100;X-TITLE=Grand T
 héâtre de Genève:geo:46.201801,6.142647
END:VEVENT
BEGIN:VTIMEZONE
TZID:Europe/Paris
X-LIC-LOCATION:Europe/Paris
BEGIN:STANDARD
DTSTART:20241027T020000
TZOFFSETFROM:+0200
TZOFFSETTO:+0100
TZNAME:CET
END:STANDARD
END:VTIMEZONE
END:VCALENDAR