BEGIN:VCALENDAR
VERSION:2.0
PRODID:-//wp-events-plugin.com//7.2.3.1//EN
TZID:Europe/Paris
X-WR-TIMEZONE:Europe/Paris
BEGIN:VEVENT
UID:120624@l-agenda.ch
DTSTART;TZID=Europe/Paris:20260430T200000
DTEND;TZID=Europe/Paris:20260430T200000
DTSTAMP:20260421T103639Z
URL:https://www.l-agenda.ch/evenements/le-futur-chauve-2026-04-30/
SUMMARY:Le Futur Chauve
DESCRIPTION:Spectacle musical et humoristique de François Monteverde
ATTACH;FMTTYPE=image/jpeg:https://www.l-agenda.ch/wp-content/uploads/2026/
 04/Le-futur-chauve.png
CATEGORIES:Comédie musicale | Spectacle musical,Musique actuelle,Opéra |
 Lyrique | Voix,Théâtre
LOCATION:Théâtre du Vide-Poche\, Place de la Palud 10\, Lausanne\, VD\, 1
 003\, Lausanne\, Suisse
GEO:46.522204;6.63229
X-APPLE-STRUCTURED-LOCATION;VALUE=URI;X-ADDRESS=Place de la Palud 10\, Laus
 anne\, VD\, 1003\, Lausanne\, Suisse;X-APPLE-RADIUS=100;X-TITLE=Théâtre 
 du Vide-Poche:geo:46.522204,6.63229
END:VEVENT
BEGIN:VTIMEZONE
TZID:Europe/Paris
X-LIC-LOCATION:Europe/Paris
BEGIN:DAYLIGHT
DTSTART:20260329T030000
TZOFFSETFROM:+0100
TZOFFSETTO:+0200
TZNAME:CEST
END:DAYLIGHT
END:VTIMEZONE
END:VCALENDAR