BEGIN:VCALENDAR
VERSION:2.0
PRODID:-//wp-events-plugin.com//7.2.3.1//EN
TZID:Europe/Paris
X-WR-TIMEZONE:Europe/Paris
BEGIN:VEVENT
UID:108046@l-agenda.ch
DTSTART;TZID=Europe/Paris:20240712T193000
DTEND;TZID=Europe/Paris:20240712T193000
DTSTAMP:20240701T080727Z
URL:https://www.l-agenda.ch/evenements/le-cycloton/
SUMMARY:Le Cycloton
DESCRIPTION:Tour de suisse en musique et en vélo\, convivial et durable
ATTACH;FMTTYPE=image/jpeg:https://www.l-agenda.ch/wp-content/uploads/2024/
 07/Cycloton.jpg
CATEGORIES:Musique actuelle,Festival
LOCATION:Parc Beaulieu\, Rue Baulacre 8\, Genève\, GE\, 1202\, Suisse
GEO:46.212971;6.139358
X-APPLE-STRUCTURED-LOCATION;VALUE=URI;X-ADDRESS=Rue Baulacre 8\, Genève\, 
 GE\, 1202\, Suisse;X-APPLE-RADIUS=100;X-TITLE=Parc Beaulieu:geo:46.212971,
 6.139358
END:VEVENT
BEGIN:VTIMEZONE
TZID:Europe/Paris
X-LIC-LOCATION:Europe/Paris
BEGIN:DAYLIGHT
DTSTART:20240331T030000
TZOFFSETFROM:+0100
TZOFFSETTO:+0200
TZNAME:CEST
END:DAYLIGHT
END:VTIMEZONE
END:VCALENDAR