BEGIN:VCALENDAR
VERSION:2.0
PRODID:-//wp-events-plugin.com//7.2.3.1//EN
TZID:Europe/Paris
X-WR-TIMEZONE:Europe/Paris
BEGIN:VEVENT
UID:120409@l-agenda.ch
DTSTART;TZID=Europe/Paris:20260423T203000
DTEND;TZID=Europe/Paris:20260423T203000
DTSTAMP:20260310T110903Z
URL:https://www.l-agenda.ch/evenements/lautre/
SUMMARY:L'Autre
DESCRIPTION:Quartet de chansons en français
ATTACH;FMTTYPE=image/jpeg:https://www.l-agenda.ch/wp-content/uploads/2026/
 03/Raisin.jpg
CATEGORIES:Jazz | Swing | Blues,Musique actuelle,Pop | Folk | Chanson
LOCATION:Au Raisin\, Rue de Lausanne 3\, Bussigny\, VD\, 1030\, Ouest lausa
 nnois\, Suisse
GEO:46.550257;6.552643
X-APPLE-STRUCTURED-LOCATION;VALUE=URI;X-ADDRESS=Rue de Lausanne 3\, Bussign
 y\, VD\, 1030\, Ouest lausannois\, Suisse;X-APPLE-RADIUS=100;X-TITLE=Au Ra
 isin:geo:46.550257,6.552643
END:VEVENT
BEGIN:VTIMEZONE
TZID:Europe/Paris
X-LIC-LOCATION:Europe/Paris
BEGIN:DAYLIGHT
DTSTART:20260329T030000
TZOFFSETFROM:+0100
TZOFFSETTO:+0200
TZNAME:CEST
END:DAYLIGHT
END:VTIMEZONE
END:VCALENDAR