BEGIN:VCALENDAR
VERSION:2.0
PRODID:-//wp-events-plugin.com//7.2.3.1//EN
TZID:Europe/Paris
X-WR-TIMEZONE:Europe/Paris
BEGIN:VEVENT
UID:120618@l-agenda.ch
DTSTART;TZID=Europe/Paris:20260611T190000
DTEND;TZID=Europe/Paris:20260611T190000
DTSTAMP:20260414T153101Z
URL:https://www.l-agenda.ch/evenements/laurent-gerra-se-met-a-table/
SUMMARY:Laurent Gerra - Se met à table !
DESCRIPTION:Stand-up dans lequel tout le monde passe à la casserole : poli
 tiques\, végans ou stars de la télévision et du cinéma. 
ATTACH;FMTTYPE=image/jpeg:https://www.l-agenda.ch/wp-content/uploads/2026/
 04/Laurent-Gerra.jpg
CATEGORIES:Théâtre,Festival,Improvisation | Humour | Stand-up
LOCATION:Théâtre de Beausobre\, Avenue de Vertou 2\, Morges\, VD\, 1110\,
  Morges\, Suisse
GEO:46.516566;6.499837
X-APPLE-STRUCTURED-LOCATION;VALUE=URI;X-ADDRESS=Avenue de Vertou 2\, Morges
 \, VD\, 1110\, Morges\, Suisse;X-APPLE-RADIUS=100;X-TITLE=Théâtre de Bea
 usobre:geo:46.516566,6.499837
END:VEVENT
BEGIN:VTIMEZONE
TZID:Europe/Paris
X-LIC-LOCATION:Europe/Paris
BEGIN:DAYLIGHT
DTSTART:20260329T030000
TZOFFSETFROM:+0100
TZOFFSETTO:+0200
TZNAME:CEST
END:DAYLIGHT
END:VTIMEZONE
END:VCALENDAR