BEGIN:VCALENDAR
VERSION:2.0
PRODID:-//wp-events-plugin.com//7.2.3.1//EN
TZID:Europe/Paris
X-WR-TIMEZONE:Europe/Paris
BEGIN:VEVENT
UID:108710@l-agenda.ch
DTSTART;TZID=Europe/Paris:20241023T183000
DTEND;TZID=Europe/Paris:20241023T183000
DTSTAMP:20240822T175045Z
URL:https://www.l-agenda.ch/evenements/laureats-du-concours-de-geneve-chan
 t/
SUMMARY:Lauréats du Concours de Genève - Chant
DESCRIPTION:Par les jeunes artistes qui viennent d’être couronné·e·s 
 à Genève
ATTACH;FMTTYPE=image/jpeg:https://www.l-agenda.ch/wp-content/uploads/2024/
 08/Concours-de-Geneve.jpg
CATEGORIES:Classique,Opéra | Lyrique | Voix
LOCATION:Théâtre les Salons\, Rue J. F. Bartholoni 6\, Genève\, GE\, 120
 4\, Suisse
GEO:46.200165;6.141756
X-APPLE-STRUCTURED-LOCATION;VALUE=URI;X-ADDRESS=Rue J. F. Bartholoni 6\, Ge
 nève\, GE\, 1204\, Suisse;X-APPLE-RADIUS=100;X-TITLE=Théâtre les Salons
 :geo:46.200165,6.141756
END:VEVENT
BEGIN:VTIMEZONE
TZID:Europe/Paris
X-LIC-LOCATION:Europe/Paris
BEGIN:DAYLIGHT
DTSTART:20240331T030000
TZOFFSETFROM:+0100
TZOFFSETTO:+0200
TZNAME:CEST
END:DAYLIGHT
END:VTIMEZONE
END:VCALENDAR