BEGIN:VCALENDAR
VERSION:2.0
PRODID:-//wp-events-plugin.com//7.2.3.1//EN
TZID:Europe/Paris
X-WR-TIMEZONE:Europe/Paris
BEGIN:VEVENT
UID:119150@l-agenda.ch
DTSTART;TZID=Europe/Paris:20260512T190000
DTEND;TZID=Europe/Paris:20260512T190000
DTSTAMP:20251126T180147Z
URL:https://www.l-agenda.ch/evenements/lapin-lapin-2026-04-24-2026-04-25-2
 026-04-26-2026-04-28-2026-04-29-2026-05-01-2026-05-02-2026-05-03-2026-05-0
 5-2026-05-06-2026-05-08-2026-05-09-2026-05-10-2026-05-12/
SUMMARY:Lapin Lapin
DESCRIPTION:Comédie de Coline Serreau autour d’une famille nombreuse
ATTACH;FMTTYPE=image/jpeg:https://www.l-agenda.ch/wp-content/uploads/2025/
 09/Lapin-lapin.png
CATEGORIES:Comédie,Théâtre
LOCATION:Théâtre Alchimic\, Avenue Industrielle 10\, Carouge\, GE\, 1227\
 , Genève\, Suisse
GEO:46.189499;6.134545
X-APPLE-STRUCTURED-LOCATION;VALUE=URI;X-ADDRESS=Avenue Industrielle 10\, Ca
 rouge\, GE\, 1227\, Genève\, Suisse;X-APPLE-RADIUS=100;X-TITLE=Théâtre 
 Alchimic:geo:46.189499,6.134545
END:VEVENT
BEGIN:VTIMEZONE
TZID:Europe/Paris
X-LIC-LOCATION:Europe/Paris
BEGIN:DAYLIGHT
DTSTART:20260329T030000
TZOFFSETFROM:+0100
TZOFFSETTO:+0200
TZNAME:CEST
END:DAYLIGHT
END:VTIMEZONE
END:VCALENDAR