BEGIN:VCALENDAR
VERSION:2.0
PRODID:-//wp-events-plugin.com//7.2.3.1//EN
TZID:Europe/Paris
X-WR-TIMEZONE:Europe/Paris
BEGIN:VEVENT
UID:117944@l-agenda.ch
DTSTART;TZID=Europe/Paris:20251010T213000
DTEND;TZID=Europe/Paris:20251010T213000
DTSTAMP:20251004T092106Z
URL:https://www.l-agenda.ch/evenements/labor-x-2/
SUMMARY:Labor X
DESCRIPTION:Concert\, performance\, drag shows\, DJ set
ATTACH;FMTTYPE=image/jpeg:https://www.l-agenda.ch/wp-content/uploads/2025/
 10/Labor-X.jpg
CATEGORIES:Musique actuelle,Performance | Expérimental
LOCATION:Les Docks\, Avenue Sévelin 34\, Lausanne\, VD\, 1004\, Lausanne\,
  Suisse
GEO:46.522407;6.619252
X-APPLE-STRUCTURED-LOCATION;VALUE=URI;X-ADDRESS=Avenue Sévelin 34\, Lausan
 ne\, VD\, 1004\, Lausanne\, Suisse;X-APPLE-RADIUS=100;X-TITLE=Les Docks:ge
 o:46.522407,6.619252
END:VEVENT
BEGIN:VTIMEZONE
TZID:Europe/Paris
X-LIC-LOCATION:Europe/Paris
BEGIN:DAYLIGHT
DTSTART:20250330T030000
TZOFFSETFROM:+0100
TZOFFSETTO:+0200
TZNAME:CEST
END:DAYLIGHT
END:VTIMEZONE
END:VCALENDAR