BEGIN:VCALENDAR
VERSION:2.0
PRODID:-//wp-events-plugin.com//7.2.3.1//EN
TZID:Europe/Paris
X-WR-TIMEZONE:Europe/Paris
BEGIN:VEVENT
UID:117464@l-agenda.ch
DTSTART;TZID=Europe/Paris:20260321T200000
DTEND;TZID=Europe/Paris:20260321T200000
DTSTAMP:20250909T131150Z
URL:https://www.l-agenda.ch/evenements/la-verite-4/
SUMMARY:La Vérité
DESCRIPTION:Comédie de Florian Zeller
ATTACH;FMTTYPE=image/jpeg:https://www.l-agenda.ch/wp-content/uploads/2025/
 09/La-Verite.jpg
CATEGORIES:Théâtre,Comédie
LOCATION:Équilibre\, Place Jean Tinguely 1\, Fribourg\, FR\, 1700\, Sarine
 \, Suisse
GEO:46.803614;7.153359
X-APPLE-STRUCTURED-LOCATION;VALUE=URI;X-ADDRESS=Place Jean Tinguely 1\, Fri
 bourg\, FR\, 1700\, Sarine\, Suisse;X-APPLE-RADIUS=100;X-TITLE=Équilibre:
 geo:46.803614,7.153359
END:VEVENT
BEGIN:VTIMEZONE
TZID:Europe/Paris
X-LIC-LOCATION:Europe/Paris
BEGIN:STANDARD
DTSTART:20251026T020000
TZOFFSETFROM:+0200
TZOFFSETTO:+0100
TZNAME:CET
END:STANDARD
END:VTIMEZONE
END:VCALENDAR