BEGIN:VCALENDAR
VERSION:2.0
PRODID:-//wp-events-plugin.com//7.2.3.1//EN
TZID:Europe/Paris
X-WR-TIMEZONE:Europe/Paris
BEGIN:VEVENT
UID:120553@l-agenda.ch
DTSTART;TZID=Europe/Paris:20260425T110000
DTEND;TZID=Europe/Paris:20260425T110000
DTSTAMP:20260330T093707Z
URL:https://www.l-agenda.ch/evenements/la-veritable-histoire-de-gretel-et-
 hansel/
SUMMARY:La véritable histoire de Gretel et Hansel
DESCRIPTION:Spectacle musical interactif\, dès 4 ans
ATTACH;FMTTYPE=image/jpeg:https://www.l-agenda.ch/wp-content/uploads/2026/
 03/La-veritable-histoire-de-Gretel-et-Hansel.jpg
CATEGORIES:Orchestre | Ensemble | Instrument | Chambre,Comédie musicale |
 Spectacle musical,Jeune public
LOCATION:Église Saint-François\, Place Saint-François\, Lausanne\, VD\, 
 1003\, Lausanne\, Suisse
GEO:46.519889;6.633594
X-APPLE-STRUCTURED-LOCATION;VALUE=URI;X-ADDRESS=Place Saint-François\, Lau
 sanne\, VD\, 1003\, Lausanne\, Suisse;X-APPLE-RADIUS=100;X-TITLE=Église S
 aint-François:geo:46.519889,6.633594
END:VEVENT
BEGIN:VTIMEZONE
TZID:Europe/Paris
X-LIC-LOCATION:Europe/Paris
BEGIN:DAYLIGHT
DTSTART:20260329T030000
TZOFFSETFROM:+0100
TZOFFSETTO:+0200
TZNAME:CEST
END:DAYLIGHT
END:VTIMEZONE
END:VCALENDAR