BEGIN:VCALENDAR
VERSION:2.0
PRODID:-//wp-events-plugin.com//7.2.3.1//EN
TZID:Europe/Paris
X-WR-TIMEZONE:Europe/Paris
BEGIN:VEVENT
UID:114571@l-agenda.ch
DTSTART;TZID=Europe/Paris:20251003T200000
DTEND;TZID=Europe/Paris:20251004T200000
DTSTAMP:20250228T144433Z
URL:https://www.l-agenda.ch/event-recurring/la-reunification-des-deux-core
 es/
SUMMARY:La réunification des deux Corées
DESCRIPTION:Création théâtrale de Joël Pommerat
ATTACH;FMTTYPE=image/jpeg:https://www.l-agenda.ch/wp-content/uploads/2025/
 02/La-reunification-des-deux-Corees.jpg
CATEGORIES:Théâtre
LOCATION:Théâtre du Jorat\, Rue du Théâtre 12\, Mézières\, VD\, 1083\
 , Lavaux-Oron\, Suisse
GEO:46.598041;6.771636
X-APPLE-STRUCTURED-LOCATION;VALUE=URI;X-ADDRESS=Rue du Théâtre 12\, Mézi
 ères\, VD\, 1083\, Lavaux-Oron\, Suisse;X-APPLE-RADIUS=100;X-TITLE=Théâ
 tre du Jorat:geo:46.598041,6.771636
END:VEVENT
BEGIN:VTIMEZONE
TZID:Europe/Paris
X-LIC-LOCATION:Europe/Paris
BEGIN:DAYLIGHT
DTSTART:20250330T030000
TZOFFSETFROM:+0100
TZOFFSETTO:+0200
TZNAME:CEST
END:DAYLIGHT
END:VTIMEZONE
END:VCALENDAR