BEGIN:VCALENDAR
VERSION:2.0
PRODID:-//wp-events-plugin.com//7.2.3.1//EN
TZID:Europe/Paris
X-WR-TIMEZONE:Europe/Paris
BEGIN:VEVENT
UID:106085@l-agenda.ch
DTSTART;TZID=Europe/Paris:20240615T190000
DTEND;TZID=Europe/Paris:20240615T190000
DTSTAMP:20240322T154003Z
URL:https://www.l-agenda.ch/evenements/la-releve/
SUMMARY:La Relève
DESCRIPTION:Étudiant·e·s HEM en direction d’orchestre
ATTACH;FMTTYPE=image/jpeg:https://www.l-agenda.ch/wp-content/uploads/2024/
 03/la-releve.png.webp
CATEGORIES:Classique
LOCATION:Auditorium Ansermet\, Passage Marie-Claude Leburgue 2\, Genève\, 
 GE\, 1205\, Suisse
GEO:46.190274;6.146484
X-APPLE-STRUCTURED-LOCATION;VALUE=URI;X-ADDRESS=Passage Marie-Claude Leburg
 ue 2\, Genève\, GE\, 1205\, Suisse;X-APPLE-RADIUS=100;X-TITLE=Auditorium 
 Ansermet:geo:46.190274,6.146484
END:VEVENT
BEGIN:VTIMEZONE
TZID:Europe/Paris
X-LIC-LOCATION:Europe/Paris
BEGIN:DAYLIGHT
DTSTART:20240331T030000
TZOFFSETFROM:+0100
TZOFFSETTO:+0200
TZNAME:CEST
END:DAYLIGHT
END:VTIMEZONE
END:VCALENDAR