BEGIN:VCALENDAR
VERSION:2.0
PRODID:-//wp-events-plugin.com//7.2.3.1//EN
TZID:Europe/Paris
X-WR-TIMEZONE:Europe/Paris
BEGIN:VEVENT
UID:103713@l-agenda.ch
DTSTART;TZID=Europe/Paris:20240317T170000
DTEND;TZID=Europe/Paris:20240317T170000
DTSTAMP:20240304T120845Z
URL:https://www.l-agenda.ch/evenements/la-passion-selon-st-jean-bach-2/
SUMMARY:La Passion selon St-Jean\, Bach
DESCRIPTION:Psallette de Genève et Ensemble Baroque du Léman
ATTACH;FMTTYPE=image/jpeg:https://www.l-agenda.ch/wp-content/uploads/2024/
 01/Flyer-Passion-Saint-Jean-mars-2024-1.png
CATEGORIES:Classique
LOCATION:Église Néo-Apostolique de Genève\, Rue Liotard 14\, Genève\, G
 E\, 1202\, Genève\, Suisse
GEO:46.209961;6.133143
X-APPLE-STRUCTURED-LOCATION;VALUE=URI;X-ADDRESS=Rue Liotard 14\, Genève\, 
 GE\, 1202\, Genève\, Suisse;X-APPLE-RADIUS=100;X-TITLE=Église Néo-Apost
 olique de Genève:geo:46.209961,6.133143
END:VEVENT
BEGIN:VTIMEZONE
TZID:Europe/Paris
X-LIC-LOCATION:Europe/Paris
BEGIN:STANDARD
DTSTART:20231029T020000
TZOFFSETFROM:+0200
TZOFFSETTO:+0100
TZNAME:CET
END:STANDARD
END:VTIMEZONE
END:VCALENDAR