BEGIN:VCALENDAR
VERSION:2.0
PRODID:-//wp-events-plugin.com//7.2.3.1//EN
TZID:Europe/Paris
X-WR-TIMEZONE:Europe/Paris
BEGIN:VEVENT
UID:109408@l-agenda.ch
DTSTART;TZID=Europe/Paris:20241101T200000
DTEND;TZID=Europe/Paris:20241101T200000
DTSTAMP:20240916T121638Z
URL:https://www.l-agenda.ch/evenements/la-mecanique-du-petrin-3/
SUMMARY:La Mécanique du pétrin
DESCRIPTION:Feydeau improvisé
CATEGORIES:Théâtre,Festival,Improvisation | Humour | Stand-up
LOCATION:Salle des Remparts\, Pl. des Anciens-Fossés\, La Tour-de-Peilz\, 
 VD\, 1814 \, Riviera\, Suisse
GEO:46.453003;6.857783
X-APPLE-STRUCTURED-LOCATION;VALUE=URI;X-ADDRESS=Pl. des Anciens-Fossés\, L
 a Tour-de-Peilz\, VD\, 1814 \, Riviera\, Suisse;X-APPLE-RADIUS=100;X-TITLE
 =Salle des Remparts:geo:46.453003,6.857783
END:VEVENT
BEGIN:VTIMEZONE
TZID:Europe/Paris
X-LIC-LOCATION:Europe/Paris
BEGIN:STANDARD
DTSTART:20241027T020000
TZOFFSETFROM:+0200
TZOFFSETTO:+0100
TZNAME:CET
END:STANDARD
END:VTIMEZONE
END:VCALENDAR