BEGIN:VCALENDAR
VERSION:2.0
PRODID:-//wp-events-plugin.com//7.2.3.1//EN
TZID:Europe/Paris
X-WR-TIMEZONE:Europe/Paris
BEGIN:VEVENT
UID:119821@l-agenda.ch
DTSTART;TZID=Europe/Paris:20260131T203000
DTEND;TZID=Europe/Paris:20260201T170000
DTSTAMP:20260116T135040Z
URL:https://www.l-agenda.ch/event-recurring/la-legende-du-chevalier-vert/
SUMMARY:La Légende du Chevalier Vert
DESCRIPTION:Spectacle musical épique et drôle\, adapté du romand médié
 val "The Greene Knigh"
ATTACH;FMTTYPE=image/jpeg:https://www.l-agenda.ch/wp-content/uploads/2026/
 01/La-legende-du-Chevalier-Vert.jpg
CATEGORIES:Comédie,Comédie musicale | Spectacle musical,Théâtre
LOCATION:La Marive\, Quai de Nogent 1\, Yverdon-les-Bains\, VD\, 1400\, Jur
 a-Nord Vaudois\, Suisse
GEO:46.785159;6.638115
X-APPLE-STRUCTURED-LOCATION;VALUE=URI;X-ADDRESS=Quai de Nogent 1\, Yverdon-
 les-Bains\, VD\, 1400\, Jura-Nord Vaudois\, Suisse;X-APPLE-RADIUS=100;X-TI
 TLE=La Marive:geo:46.785159,6.638115
END:VEVENT
BEGIN:VTIMEZONE
TZID:Europe/Paris
X-LIC-LOCATION:Europe/Paris
BEGIN:STANDARD
DTSTART:20251026T020000
TZOFFSETFROM:+0200
TZOFFSETTO:+0100
TZNAME:CET
END:STANDARD
END:VTIMEZONE
END:VCALENDAR