BEGIN:VCALENDAR
VERSION:2.0
PRODID:-//wp-events-plugin.com//7.2.3.1//EN
TZID:Europe/Paris
X-WR-TIMEZONE:Europe/Paris
BEGIN:VEVENT
UID:119830@l-agenda.ch
DTSTART;TZID=Europe/Paris:20261002T200000
DTEND;TZID=Europe/Paris:20261002T200000
DTSTAMP:20260116T135613Z
URL:https://www.l-agenda.ch/evenements/la-legende-du-chevalier-vert-7/
SUMMARY:La Légende du Chevalier Vert
DESCRIPTION:Spectacle musical épique et drôle\, adapté du romand médié
 val "The Greene Knigh"
ATTACH;FMTTYPE=image/jpeg:https://www.l-agenda.ch/wp-content/uploads/2026/
 01/La-legende-du-Chevalier-Vert.jpg
CATEGORIES:Comédie,Comédie musicale | Spectacle musical,Théâtre
LOCATION:Salle des spectacles Epalinges\, Route de la Croix-Blanche 27\, Ep
 alinges\, VD\, 1066\, Lausanne\, Suisse
GEO:46.548307;6.671554
X-APPLE-STRUCTURED-LOCATION;VALUE=URI;X-ADDRESS=Route de la Croix-Blanche 2
 7\, Epalinges\, VD\, 1066\, Lausanne\, Suisse;X-APPLE-RADIUS=100;X-TITLE=S
 alle des spectacles Epalinges:geo:46.548307,6.671554
END:VEVENT
BEGIN:VTIMEZONE
TZID:Europe/Paris
X-LIC-LOCATION:Europe/Paris
BEGIN:DAYLIGHT
DTSTART:20260329T030000
TZOFFSETFROM:+0100
TZOFFSETTO:+0200
TZNAME:CEST
END:DAYLIGHT
END:VTIMEZONE
END:VCALENDAR