BEGIN:VCALENDAR
VERSION:2.0
PRODID:-//wp-events-plugin.com//7.2.3.1//EN
TZID:Europe/Paris
X-WR-TIMEZONE:Europe/Paris
BEGIN:VEVENT
UID:119827@l-agenda.ch
DTSTART;TZID=Europe/Paris:20260912T200000
DTEND;TZID=Europe/Paris:20260912T200000
DTSTAMP:20260116T135453Z
URL:https://www.l-agenda.ch/evenements/la-legende-du-chevalier-vert-4/
SUMMARY:La Légende du Chevalier Vert
DESCRIPTION:Spectacle musical épique et drôle\, adapté du romand médié
 val "The Greene Knigh"
ATTACH;FMTTYPE=image/jpeg:https://www.l-agenda.ch/wp-content/uploads/2026/
 01/La-legende-du-Chevalier-Vert.jpg
CATEGORIES:Comédie,Comédie musicale | Spectacle musical,Théâtre
LOCATION:Château de Grandson\, Place du Château\, Grandson\, VD\, 1422\, 
 Jura - Nord vaudois\, Suisse
X-APPLE-STRUCTURED-LOCATION;VALUE=URI;X-ADDRESS=Place du Château\, Grandso
 n\, VD\, 1422\, Jura - Nord vaudois\, Suisse;X-APPLE-RADIUS=100;X-TITLE=Ch
 âteau de Grandson:geo:0,0
END:VEVENT
BEGIN:VTIMEZONE
TZID:Europe/Paris
X-LIC-LOCATION:Europe/Paris
BEGIN:DAYLIGHT
DTSTART:20260329T030000
TZOFFSETFROM:+0100
TZOFFSETTO:+0200
TZNAME:CEST
END:DAYLIGHT
END:VTIMEZONE
END:VCALENDAR