BEGIN:VCALENDAR
VERSION:2.0
PRODID:-//wp-events-plugin.com//7.2.3.1//EN
TZID:Europe/Paris
X-WR-TIMEZONE:Europe/Paris
BEGIN:VEVENT
UID:119826@l-agenda.ch
DTSTART;TZID=Europe/Paris:20260214T200000
DTEND;TZID=Europe/Paris:20260214T200000
DTSTAMP:20260116T135424Z
URL:https://www.l-agenda.ch/evenements/la-legende-du-chevalier-vert-3/
SUMMARY:La Légende du Chevalier Vert
DESCRIPTION:Spectacle musical épique et drôle\, adapté du romand médié
 val "The Greene Knigh"
ATTACH;FMTTYPE=image/jpeg:https://www.l-agenda.ch/wp-content/uploads/2026/
 01/La-legende-du-Chevalier-Vert.jpg
CATEGORIES:Comédie,Comédie musicale | Spectacle musical,Théâtre
LOCATION:Théâtre des Abeilles\, Numa-Droz 120\, La Chaux-de-Fonds\, NE\, 
 2300\, La Chaux-de-Fonds\, Suisse
GEO:47.100346;6.820318
X-APPLE-STRUCTURED-LOCATION;VALUE=URI;X-ADDRESS=Numa-Droz 120\, La Chaux-de
 -Fonds\, NE\, 2300\, La Chaux-de-Fonds\, Suisse;X-APPLE-RADIUS=100;X-TITLE
 =Théâtre des Abeilles:geo:47.100346,6.820318
END:VEVENT
BEGIN:VTIMEZONE
TZID:Europe/Paris
X-LIC-LOCATION:Europe/Paris
BEGIN:STANDARD
DTSTART:20251026T020000
TZOFFSETFROM:+0200
TZOFFSETTO:+0100
TZNAME:CET
END:STANDARD
END:VTIMEZONE
END:VCALENDAR