BEGIN:VCALENDAR
VERSION:2.0
PRODID:-//wp-events-plugin.com//7.2.3.1//EN
TZID:Europe/Paris
X-WR-TIMEZONE:Europe/Paris
BEGIN:VEVENT
UID:115144@l-agenda.ch
DTSTART;TZID=Europe/Paris:20250510T200000
DTEND;TZID=Europe/Paris:20250510T200000
DTSTAMP:20250403T153548Z
URL:https://www.l-agenda.ch/evenements/la-chapelle-vocale-de-lausanne-2025
 -05-10/
SUMMARY:La Chapelle Vocale de Lausanne
DESCRIPTION:Psaumes et motets de Monteverdi 
CATEGORIES:Classique,Opéra | Lyrique | Voix,Orchestre | Ensemble |
 Instrument | Chambre
LOCATION:Temple de Rolle\, Temple de Rolle\, Rolle\, VD\, 1180\, Nyon\, Sui
 sse
GEO:46.458653;6.33665
X-APPLE-STRUCTURED-LOCATION;VALUE=URI;X-ADDRESS=Temple de Rolle\, Rolle\, V
 D\, 1180\, Nyon\, Suisse;X-APPLE-RADIUS=100;X-TITLE=Temple de Rolle:geo:46
 .458653,6.33665
END:VEVENT
BEGIN:VTIMEZONE
TZID:Europe/Paris
X-LIC-LOCATION:Europe/Paris
BEGIN:DAYLIGHT
DTSTART:20250330T030000
TZOFFSETFROM:+0100
TZOFFSETTO:+0200
TZNAME:CEST
END:DAYLIGHT
END:VTIMEZONE
END:VCALENDAR