BEGIN:VCALENDAR
VERSION:2.0
PRODID:-//wp-events-plugin.com//7.2.3.1//EN
TZID:Europe/Paris
X-WR-TIMEZONE:Europe/Paris
BEGIN:VEVENT
UID:103711@l-agenda.ch
DTSTART;TZID=Europe/Paris:20241220T190000
DTEND;TZID=Europe/Paris:20241220T190000
DTSTAMP:20240920T171253Z
URL:https://www.l-agenda.ch/evenements/la-boite-a-joujoux/
SUMMARY:La Boîte à joujoux
DESCRIPTION:Spectacle musical illustré\, dès 7 ans
ATTACH;FMTTYPE=image/jpeg:https://www.l-agenda.ch/wp-content/uploads/2024/
 01/ENSEMBLE_Boite_Joujoux_2023_IMAGE.jpg
CATEGORIES:Classique,Jeune public
LOCATION:Théâtre de Grand-Champ\, Chemin de la Serine 2\, Gland\, VD\, 11
 96\, Nyon\, Suisse
GEO:46.42164;6.26049
X-APPLE-STRUCTURED-LOCATION;VALUE=URI;X-ADDRESS=Chemin de la Serine 2\, Gla
 nd\, VD\, 1196\, Nyon\, Suisse;X-APPLE-RADIUS=100;X-TITLE=Théâtre de Gra
 nd-Champ:geo:46.42164,6.26049
END:VEVENT
BEGIN:VTIMEZONE
TZID:Europe/Paris
X-LIC-LOCATION:Europe/Paris
BEGIN:STANDARD
DTSTART:20241027T020000
TZOFFSETFROM:+0200
TZOFFSETTO:+0100
TZNAME:CET
END:STANDARD
END:VTIMEZONE
END:VCALENDAR