BEGIN:VCALENDAR
VERSION:2.0
PRODID:-//wp-events-plugin.com//7.2.3.1//EN
TZID:Europe/Paris
X-WR-TIMEZONE:Europe/Paris
BEGIN:VEVENT
UID:108149@l-agenda.ch
DTSTART;TZID=Europe/Paris;VALUE=DATE:20250828
DTEND;TZID=Europe/Paris;VALUE=DATE:20250915
DTSTAMP:20250825T075610Z
URL:https://www.l-agenda.ch/evenements/la-batie-festival/
SUMMARY:La Bâtie Festival
DESCRIPTION:49e édition
ATTACH;FMTTYPE=image/jpeg:https://www.l-agenda.ch/wp-content/uploads/2024/
 07/La-batie.webp
CATEGORIES:Festival,Cirque,Danse,Musique actuelle,Théâtre
LOCATION:Divers lieux - Genève\, Divers lieux\, Genève\, GE\, 1200\, Gen
 ève\, Suisse
GEO:46.204391;6.143158
X-APPLE-STRUCTURED-LOCATION;VALUE=URI;X-ADDRESS=Divers lieux\, Genève\, GE
 \, 1200\, Genève\, Suisse;X-APPLE-RADIUS=100;X-TITLE=Divers lieux - Genè
 ve:geo:46.204391,6.143158
END:VEVENT
BEGIN:VTIMEZONE
TZID:Europe/Paris
X-LIC-LOCATION:Europe/Paris
BEGIN:DAYLIGHT
DTSTART:20250330T030000
TZOFFSETFROM:+0100
TZOFFSETTO:+0200
TZNAME:CEST
END:DAYLIGHT
END:VTIMEZONE
END:VCALENDAR