BEGIN:VCALENDAR
VERSION:2.0
PRODID:-//wp-events-plugin.com//7.2.3.1//EN
TZID:Europe/Paris
X-WR-TIMEZONE:Europe/Paris
BEGIN:VEVENT
UID:115368@l-agenda.ch
DTSTART;TZID=Europe/Paris:20250518T183000
DTEND;TZID=Europe/Paris:20250518T183000
DTSTAMP:20250516T095422Z
URL:https://www.l-agenda.ch/evenements/keiji-haino/
SUMMARY:Keiji Haino
DESCRIPTION:Concert solo pour voix et électronique
ATTACH;FMTTYPE=image/jpeg:https://www.l-agenda.ch/wp-content/uploads/2025/
 05/Keiji-Haino.jpg
CATEGORIES:Musique actuelle
LOCATION:Temple de la Tour-de-Peilz\, Temple\, La Tour-de-Peilz\, VD\, 1814
 \, Riviera\, Suisse
GEO:46.453616;6.856968
X-APPLE-STRUCTURED-LOCATION;VALUE=URI;X-ADDRESS=Temple\, La Tour-de-Peilz\,
  VD\, 1814\, Riviera\, Suisse;X-APPLE-RADIUS=100;X-TITLE=Temple de la Tour
 -de-Peilz:geo:46.453616,6.856968
END:VEVENT
BEGIN:VTIMEZONE
TZID:Europe/Paris
X-LIC-LOCATION:Europe/Paris
BEGIN:DAYLIGHT
DTSTART:20250330T030000
TZOFFSETFROM:+0100
TZOFFSETTO:+0200
TZNAME:CEST
END:DAYLIGHT
END:VTIMEZONE
END:VCALENDAR