BEGIN:VCALENDAR
VERSION:2.0
PRODID:-//wp-events-plugin.com//7.2.3.1//EN
TZID:Europe/Paris
X-WR-TIMEZONE:Europe/Paris
BEGIN:VEVENT
UID:103783@l-agenda.ch
DTSTART;TZID=Europe/Paris:20250206T200000
DTEND;TZID=Europe/Paris:20250206T200000
DTSTAMP:20241226T230326Z
URL:https://www.l-agenda.ch/evenements/karim-slama-monsieur-2/
SUMMARY:Karim Slama - Monsieur
DESCRIPTION:Mime et humour
ATTACH;FMTTYPE=image/jpeg:https://www.l-agenda.ch/wp-content/uploads/2022/
 10/220713_SCR_Livret-Programme-slama-web.jpg
CATEGORIES:Improvisation | Humour | Stand-up,Théâtre
LOCATION:Théâtre Grenette\, Rue de Lausanne 1\, Vevey\, VD\, 1800\, Rivie
 ra\, Suisse
GEO:46.4609;6.842397
X-APPLE-STRUCTURED-LOCATION;VALUE=URI;X-ADDRESS=Rue de Lausanne 1\, Vevey\,
  VD\, 1800\, Riviera\, Suisse;X-APPLE-RADIUS=100;X-TITLE=Théâtre Grenett
 e:geo:46.4609,6.842397
END:VEVENT
BEGIN:VTIMEZONE
TZID:Europe/Paris
X-LIC-LOCATION:Europe/Paris
BEGIN:STANDARD
DTSTART:20241027T020000
TZOFFSETFROM:+0200
TZOFFSETTO:+0100
TZNAME:CET
END:STANDARD
END:VTIMEZONE
END:VCALENDAR