BEGIN:VCALENDAR
VERSION:2.0
PRODID:-//wp-events-plugin.com//7.2.3.1//EN
TZID:Europe/Paris
X-WR-TIMEZONE:Europe/Paris
BEGIN:VEVENT
UID:108720@l-agenda.ch
DTSTART;TZID=Europe/Paris:20240831T210000
DTEND;TZID=Europe/Paris:20240831T210000
DTSTAMP:20240823T090511Z
URL:https://www.l-agenda.ch/evenements/kali-malone-all-life-long/
SUMMARY:Kali Malone - All Life Long
DESCRIPTION:Cycle de douze pièces pour orgue\, chœur et cuivres composé 
 entre 2020 et 2023 composé par Kali Malone\nAvec Stephen O’Malley\, org
 ue\nMacadam Ensemble\nEnsemble Contrechamps\n\nDans le cadre de La Bâtie-
 Festival de Genève
ATTACH;FMTTYPE=image/jpeg:https://www.l-agenda.ch/wp-content/uploads/2024/
 08/Kali-Malone.webp
CATEGORIES:Classique,Musique contemporaine
LOCATION:Victoria Hall\, Rue Général-Dufour 14\, Genève\, GE\, 1204\, Ge
 nève\, Suisse
GEO:46.201402;6.141062
X-APPLE-STRUCTURED-LOCATION;VALUE=URI;X-ADDRESS=Rue Général-Dufour 14\, G
 enève\, GE\, 1204\, Genève\, Suisse;X-APPLE-RADIUS=100;X-TITLE=Victoria 
 Hall:geo:46.201402,6.141062
END:VEVENT
BEGIN:VTIMEZONE
TZID:Europe/Paris
X-LIC-LOCATION:Europe/Paris
BEGIN:DAYLIGHT
DTSTART:20240331T030000
TZOFFSETFROM:+0100
TZOFFSETTO:+0200
TZNAME:CEST
END:DAYLIGHT
END:VTIMEZONE
END:VCALENDAR