BEGIN:VCALENDAR
VERSION:2.0
PRODID:-//wp-events-plugin.com//7.2.3.1//EN
TZID:Europe/Paris
X-WR-TIMEZONE:Europe/Paris
BEGIN:VEVENT
UID:115397@l-agenda.ch
DTSTART;TZID=Europe/Paris:20250707T210000
DTEND;TZID=Europe/Paris:20250707T210000
DTSTAMP:20250520T090823Z
URL:https://www.l-agenda.ch/evenements/jeff-mills-presents-tomorrow-comes-
 the-harvest-feat-jean-phi-dary-prabhu-edouard-2025-07-07/
SUMMARY:Jeff Mills presents Tomorrow Comes The Harvest feat. Jean Phi Dary 
 & Prabhu Edouard
DESCRIPTION:Jazz électronique (Detroit)
ATTACH;FMTTYPE=image/jpeg:https://www.l-agenda.ch/wp-content/uploads/2025/
 05/Jeff-Mills.jpg
CATEGORIES:Electro,Jazz | Swing | Blues,Musique actuelle
LOCATION:Scène Ella Fitzgerald\, Avenue Parc La Grange \, Genève\, GE\, 1
 207\, Suisse
GEO:46.206543;6.167479
X-APPLE-STRUCTURED-LOCATION;VALUE=URI;X-ADDRESS=Avenue Parc La Grange \, Ge
 nève\, GE\, 1207\, Suisse;X-APPLE-RADIUS=100;X-TITLE=Scène Ella Fitzgera
 ld:geo:46.206543,6.167479
END:VEVENT
BEGIN:VTIMEZONE
TZID:Europe/Paris
X-LIC-LOCATION:Europe/Paris
BEGIN:DAYLIGHT
DTSTART:20250330T030000
TZOFFSETFROM:+0100
TZOFFSETTO:+0200
TZNAME:CEST
END:DAYLIGHT
END:VTIMEZONE
END:VCALENDAR