BEGIN:VCALENDAR
VERSION:2.0
PRODID:-//wp-events-plugin.com//7.2.3.1//EN
TZID:Europe/Paris
X-WR-TIMEZONE:Europe/Paris
BEGIN:VEVENT
UID:111267@l-agenda.ch
DTSTART;TZID=Europe/Paris:20241126T193000
DTEND;TZID=Europe/Paris:20241126T193000
DTSTAMP:20241114T165523Z
URL:https://www.l-agenda.ch/evenements/jeanne-added-x-lorchestre-de-chambr
 e-de-geneve-2024-11-26/
SUMMARY:Jeanne Added x L’Orchestre de Chambre de Genève
DESCRIPTION:Avec Jeanne Added\, chant et piano rock-électro
ATTACH;FMTTYPE=image/jpeg:https://www.l-agenda.ch/wp-content/uploads/2024/
 11/Jeanne-Added-x-LOrchestre-de-Chambre-de-Geneve.jpg
CATEGORIES:Classique,Musique actuelle,Orchestre | Ensemble | Instrument |
 Chambre,Rock | Metal | Punk
LOCATION:Victoria Hall\, Rue Général-Dufour 14\, Genève\, GE\, 1204\, Ge
 nève\, Suisse
GEO:46.201402;6.141062
X-APPLE-STRUCTURED-LOCATION;VALUE=URI;X-ADDRESS=Rue Général-Dufour 14\, G
 enève\, GE\, 1204\, Genève\, Suisse;X-APPLE-RADIUS=100;X-TITLE=Victoria 
 Hall:geo:46.201402,6.141062
END:VEVENT
BEGIN:VTIMEZONE
TZID:Europe/Paris
X-LIC-LOCATION:Europe/Paris
BEGIN:STANDARD
DTSTART:20241027T020000
TZOFFSETFROM:+0200
TZOFFSETTO:+0100
TZNAME:CET
END:STANDARD
END:VTIMEZONE
END:VCALENDAR