BEGIN:VCALENDAR
VERSION:2.0
PRODID:-//wp-events-plugin.com//7.2.3.1//EN
TZID:Europe/Paris
X-WR-TIMEZONE:Europe/Paris
BEGIN:VEVENT
UID:106890@l-agenda.ch
DTSTART;TZID=Europe/Paris:20240519T170000
DTEND;TZID=Europe/Paris:20240519T170000
DTSTAMP:20240429T144251Z
URL:https://www.l-agenda.ch/evenements/j-s-bach-trios-en-duo/
SUMMARY:J.S. Bach : Trios en duo
DESCRIPTION:Sonates pour violon et clavecin de Bach\n\nAvec Sue-Ying Koang\
 , violon et Vincent Bernhardt\, clavecin\n\nPar l'association Alta Musica\
 nDans le cadre des Concerts-Causeries de Chailly
ATTACH;FMTTYPE=image/jpeg:https://www.l-agenda.ch/wp-content/uploads/2024/
 04/Alta-Musica-1.jpg
CATEGORIES:Orchestre | Ensemble | Instrument | Chambre,Classique
LOCATION:Temple de Chailly\, Avenue du Temple 2\, Lausanne\, VD\, 1012\, La
 usanne\, Suisse
GEO:46.528527;6.653683
X-APPLE-STRUCTURED-LOCATION;VALUE=URI;X-ADDRESS=Avenue du Temple 2\, Lausan
 ne\, VD\, 1012\, Lausanne\, Suisse;X-APPLE-RADIUS=100;X-TITLE=Temple de Ch
 ailly:geo:46.528527,6.653683
END:VEVENT
BEGIN:VTIMEZONE
TZID:Europe/Paris
X-LIC-LOCATION:Europe/Paris
BEGIN:DAYLIGHT
DTSTART:20240331T030000
TZOFFSETFROM:+0100
TZOFFSETTO:+0200
TZNAME:CEST
END:DAYLIGHT
END:VTIMEZONE
END:VCALENDAR