BEGIN:VCALENDAR
VERSION:2.0
PRODID:-//wp-events-plugin.com//7.2.3.1//EN
TZID:Europe/Paris
X-WR-TIMEZONE:Europe/Paris
BEGIN:VEVENT
UID:114592@l-agenda.ch
DTSTART;TZID=Europe/Paris:20250613T213000
DTEND;TZID=Europe/Paris:20250614T213000
DTSTAMP:20250228T162559Z
URL:https://www.l-agenda.ch/event-recurring/issa-doumbia-monsieur-doumbia/
SUMMARY:Issa Doumbia - Monsieur Doumbia
DESCRIPTION:Stand-up
ATTACH;FMTTYPE=image/jpeg:https://www.l-agenda.ch/wp-content/uploads/2025/
 02/Issa-Doumbia.jpg
CATEGORIES:Festival,Improvisation | Humour | Stand-up,Théâtre
LOCATION:Théâtre de Beausobre\, Avenue de Vertou 2\, Morges\, VD\, 1110\,
  Morges\, Suisse
GEO:46.516566;6.499837
X-APPLE-STRUCTURED-LOCATION;VALUE=URI;X-ADDRESS=Avenue de Vertou 2\, Morges
 \, VD\, 1110\, Morges\, Suisse;X-APPLE-RADIUS=100;X-TITLE=Théâtre de Bea
 usobre:geo:46.516566,6.499837
END:VEVENT
BEGIN:VTIMEZONE
TZID:Europe/Paris
X-LIC-LOCATION:Europe/Paris
BEGIN:DAYLIGHT
DTSTART:20250330T030000
TZOFFSETFROM:+0100
TZOFFSETTO:+0200
TZNAME:CEST
END:DAYLIGHT
END:VTIMEZONE
END:VCALENDAR