BEGIN:VCALENDAR
VERSION:2.0
PRODID:-//wp-events-plugin.com//7.2.3.1//EN
TZID:Europe/Paris
X-WR-TIMEZONE:Europe/Paris
BEGIN:VEVENT
UID:120606@l-agenda.ch
DTSTART;TZID=Europe/Paris:20260414T173000
DTEND;TZID=Europe/Paris:20260423T173000
DTSTAMP:20260413T140132Z
URL:https://www.l-agenda.ch/evenements/impact/
SUMMARY:IMPACT
DESCRIPTION:Des œuvres qui révèlent comment la nature\, l’humain et l
 ’art se rencontrent\, se transforment et s’impactent mutuellement.
ATTACH;FMTTYPE=image/jpeg:https://www.l-agenda.ch/wp-content/uploads/2026/
 04/IMPACT.png
CATEGORIES:Exposition temporaire,16-2026,Vernissage
LOCATION:Forum de l'Hôtel de Ville\, Place de la Palud 2\, Lausanne\, VD\,
  1003\, Lausanne\, Suisse
GEO:46.52182;6.632665
X-APPLE-STRUCTURED-LOCATION;VALUE=URI;X-ADDRESS=Place de la Palud 2\, Lausa
 nne\, VD\, 1003\, Lausanne\, Suisse;X-APPLE-RADIUS=100;X-TITLE=Forum de l'
 Hôtel de Ville:geo:46.52182,6.632665
END:VEVENT
BEGIN:VTIMEZONE
TZID:Europe/Paris
X-LIC-LOCATION:Europe/Paris
BEGIN:DAYLIGHT
DTSTART:20260329T030000
TZOFFSETFROM:+0100
TZOFFSETTO:+0200
TZNAME:CEST
END:DAYLIGHT
END:VTIMEZONE
END:VCALENDAR