BEGIN:VCALENDAR
VERSION:2.0
PRODID:-//wp-events-plugin.com//7.2.3.1//EN
TZID:Europe/Paris
X-WR-TIMEZONE:Europe/Paris
BEGIN:VEVENT
UID:112356@l-agenda.ch
DTSTART;TZID=Europe/Paris:20250206T190000
DTEND;TZID=Europe/Paris:20250206T190000
DTSTAMP:20241227T095240Z
URL:https://www.l-agenda.ch/evenements/iggy-pop-live-at-montreux-jazz-fest
 ival-2023-2025-02-06/
SUMMARY:Iggy Pop : Live at Montreux Jazz Festival 2023
DESCRIPTION:Projection en avant-première de la captation du concert
ATTACH;FMTTYPE=image/jpeg:https://www.l-agenda.ch/wp-content/uploads/2024/
 12/Iggy-pop.webp
CATEGORIES:Musique actuelle,Projection | Film
LOCATION:Millennium\, Chemin de Mongevon 25\, Lausanne - Crissier\, VD\, 10
 23\, Lausanne\, Suisse
GEO:46.549717;6.569938
X-APPLE-STRUCTURED-LOCATION;VALUE=URI;X-ADDRESS=Chemin de Mongevon 25\, Lau
 sanne - Crissier\, VD\, 1023\, Lausanne\, Suisse;X-APPLE-RADIUS=100;X-TITL
 E=Millennium:geo:46.549717,6.569938
END:VEVENT
BEGIN:VTIMEZONE
TZID:Europe/Paris
X-LIC-LOCATION:Europe/Paris
BEGIN:STANDARD
DTSTART:20241027T020000
TZOFFSETFROM:+0200
TZOFFSETTO:+0100
TZNAME:CET
END:STANDARD
END:VTIMEZONE
END:VCALENDAR