BEGIN:VCALENDAR
VERSION:2.0
PRODID:-//wp-events-plugin.com//7.2.3.1//EN
TZID:Europe/Paris
X-WR-TIMEZONE:Europe/Paris
BEGIN:VEVENT
UID:117416@l-agenda.ch
DTSTART;TZID=Europe/Paris:20260326T200000
DTEND;TZID=Europe/Paris:20260326T200000
DTSTAMP:20250909T121835Z
URL:https://www.l-agenda.ch/evenements/humans-2-0/
SUMMARY:Humans 2.0
DESCRIPTION:Performances athlétiques et acrobatiques
ATTACH;FMTTYPE=image/jpeg:https://www.l-agenda.ch/wp-content/uploads/2025/
 09/Humans-2.0.webp
CATEGORIES:Danse,Cirque
LOCATION:Théâtre Le Reflet – Vevey\, Rue du Théâtre 4\, Vevey\, VD\, 
 1800\, Riviera\, Suisse
GEO:46.460499;6.843113
X-APPLE-STRUCTURED-LOCATION;VALUE=URI;X-ADDRESS=Rue du Théâtre 4\, Vevey\
 , VD\, 1800\, Riviera\, Suisse;X-APPLE-RADIUS=100;X-TITLE=Théâtre Le Ref
 let – Vevey:geo:46.460499,6.843113
END:VEVENT
BEGIN:VTIMEZONE
TZID:Europe/Paris
X-LIC-LOCATION:Europe/Paris
BEGIN:STANDARD
DTSTART:20251026T020000
TZOFFSETFROM:+0200
TZOFFSETTO:+0100
TZNAME:CET
END:STANDARD
END:VTIMEZONE
END:VCALENDAR