BEGIN:VCALENDAR
VERSION:2.0
PRODID:-//wp-events-plugin.com//7.2.3.1//EN
TZID:Europe/Paris
X-WR-TIMEZONE:Europe/Paris
BEGIN:VEVENT
UID:111476@l-agenda.ch
DTSTART;TZID=Europe/Paris:20250504T170000
DTEND;TZID=Europe/Paris:20250504T170000
DTSTAMP:20241118T125235Z
URL:https://www.l-agenda.ch/evenements/hortense-a-dit-jmen-fous-mais-ne-tp
 romene-donc-pas-toute-nue-2025-05-04/
SUMMARY:Hortense a dit: "J’m’en fous" / Mais ne t'promène donc pas tou
 te nue!
DESCRIPTION:Deux vaudevilles en un acte de Feydeau
ATTACH;FMTTYPE=image/jpeg:https://www.l-agenda.ch/wp-content/uploads/2024/
 11/Feydeau.jpeg
CATEGORIES:Comédie,Théâtre
LOCATION:L'Oxymore\, Chemin de Versaille 14\, Cully \, VD\, 1096\, Lavaux-O
 ron\, Suisse
GEO:46.487603;6.727307
X-APPLE-STRUCTURED-LOCATION;VALUE=URI;X-ADDRESS=Chemin de Versaille 14\, Cu
 lly \, VD\, 1096\, Lavaux-Oron\, Suisse;X-APPLE-RADIUS=100;X-TITLE=L'Oxymo
 re:geo:46.487603,6.727307
END:VEVENT
BEGIN:VTIMEZONE
TZID:Europe/Paris
X-LIC-LOCATION:Europe/Paris
BEGIN:DAYLIGHT
DTSTART:20250330T030000
TZOFFSETFROM:+0100
TZOFFSETTO:+0200
TZNAME:CEST
END:DAYLIGHT
END:VTIMEZONE
END:VCALENDAR