BEGIN:VCALENDAR
VERSION:2.0
PRODID:-//wp-events-plugin.com//7.2.3.1//EN
TZID:Europe/Paris
X-WR-TIMEZONE:Europe/Paris
BEGIN:VEVENT
UID:70230@l-agenda.ch
DTSTART;TZID=Europe/Paris:20211202T204500
DTEND;TZID=Europe/Paris:20211205T204500
DTSTAMP:20211129T185242Z
URL:https://www.l-agenda.ch/event-recurring/hollywood/
SUMMARY:Hollywood
DESCRIPTION:Comédie musicale\, musiques de films
ATTACH;FMTTYPE=image/jpeg:https://www.l-agenda.ch/wp-content/uploads/2021/
 11/hollywood.jpg
CATEGORIES:Théâtre
LOCATION:Théâtre Barnabé\, Rue du Théâtre 2\, Servion\, VD\, 1077 \, L
 avaux-Oron\, Suisse
GEO:46.596207;6.770662
X-APPLE-STRUCTURED-LOCATION;VALUE=URI;X-ADDRESS=Rue du Théâtre 2\, Servio
 n\, VD\, 1077 \, Lavaux-Oron\, Suisse;X-APPLE-RADIUS=100;X-TITLE=Théâtre
  Barnabé:geo:46.596207,6.770662
END:VEVENT
BEGIN:VTIMEZONE
TZID:Europe/Paris
X-LIC-LOCATION:Europe/Paris
BEGIN:STANDARD
DTSTART:20211031T020000
TZOFFSETFROM:+0200
TZOFFSETTO:+0100
TZNAME:CET
END:STANDARD
END:VTIMEZONE
END:VCALENDAR