BEGIN:VCALENDAR
VERSION:2.0
PRODID:-//wp-events-plugin.com//7.2.3.1//EN
TZID:Europe/Paris
X-WR-TIMEZONE:Europe/Paris
BEGIN:VEVENT
UID:118068@l-agenda.ch
DTSTART;TZID=Europe/Paris:20251112T200000
DTEND;TZID=Europe/Paris:20251112T200000
DTSTAMP:20251013T121358Z
URL:https://www.l-agenda.ch/event-recurring/helene-et-albert-en-toutes-let
 tres/
SUMMARY:Hélène et Albert en toutes lettres
DESCRIPTION:Concert épistolaire\, d'après la correspondance d'Albert Schw
 eitzer (prix Nobel de la Paix 1952) et Hélène Bresslau
ATTACH;FMTTYPE=image/jpeg:https://www.l-agenda.ch/wp-content/uploads/2025/
 10/Helene-et-Albert.webp
CATEGORIES:Classique,Comédie musicale | Spectacle musical,Documentaire |
 Documenté | Autofiction,Opéra | Lyrique | Voix,Orchestre | Ensemble |
 Instrument | Chambre,Théâtre
LOCATION:Musée International de la Réforme (MIR)\, Cour de Saint-Pierre 1
 0\, Genève\, GE\, 1204\, Genève\, Suisse
GEO:46.201445;6.147968
X-APPLE-STRUCTURED-LOCATION;VALUE=URI;X-ADDRESS=Cour de Saint-Pierre 10\, G
 enève\, GE\, 1204\, Genève\, Suisse;X-APPLE-RADIUS=100;X-TITLE=Musée In
 ternational de la Réforme (MIR):geo:46.201445,6.147968
END:VEVENT
BEGIN:VTIMEZONE
TZID:Europe/Paris
X-LIC-LOCATION:Europe/Paris
BEGIN:STANDARD
DTSTART:20251026T020000
TZOFFSETFROM:+0200
TZOFFSETTO:+0100
TZNAME:CET
END:STANDARD
END:VTIMEZONE
END:VCALENDAR